BEGIN:VCALENDAR
VERSION:2.0
PRODID:-//Haiti Solidarity Network of the Northeast - ECPv5.1.4//NONSGML v1.0//EN
CALSCALE:GREGORIAN
METHOD:PUBLISH
X-WR-CALNAME:Haiti Solidarity Network of the Northeast
X-ORIGINAL-URL:https://www.haitisolidaritynetwork.org
X-WR-CALDESC:Events for Haiti Solidarity Network of the Northeast
BEGIN:VTIMEZONE
TZID:America/New_York
BEGIN:DAYLIGHT
TZOFFSETFROM:-0500
TZOFFSETTO:-0400
TZNAME:EDT
DTSTART:20200308T070000
END:DAYLIGHT
BEGIN:STANDARD
TZOFFSETFROM:-0400
TZOFFSETTO:-0500
TZNAME:EST
DTSTART:20201101T060000
END:STANDARD
END:VTIMEZONE
BEGIN:VEVENT
DTSTART;TZID=America/New_York:20200725T130000
DTEND;TZID=America/New_York:20200725T140000
DTSTAMP:20260420T172031
CREATED:20200716T014534Z
LAST-MODIFIED:20200716T021548Z
UID:348-1595682000-1595685600@www.haitisolidaritynetwork.org
SUMMARY:HSNNE\, COADY-HAITI\, MOBIL4HAITI\, HUDE invite you to a SERVICE OF REMEMBRANCE FOR OUR YVEL CELESTIN
DESCRIPTION:WE REMEMBER YOU\, YVEL!  \nA year ago this month\, Yvel “Velto” Celestin died tragically while on mission in Haiti. As family and friends\, we would like to pause to come together to remember Yvel’s life which was marked by devotion to the people of Haiti\, a commitment to the struggle for justice\, works of charity and expressions of solidarity especially with those who are impoverished or marginalized. We will come together to remember but also to draw inspiration from a life well-lived and to re-commit ourselves to works of solidarity and justice.\n\n\nYou can participate in the Service either in person at Saint Patrick’s Church\, 492 Bramhall Avenue\, Jersey City or remotely by way of Zoom. If you plan to come to the Church\, please be prepared to wear a face mask and keep social distancing. The Zoom link is found below.\n\n\n\nJoin Zoom Meeting\nhttps://us02web.zoom.us/j/89481409536?pwd=S3N3aHVrSUlncXBYWThnNlUzQytWZz09<https://us02web.zoom.us/j/89481409536?pwd=S3N3aHVrSUlncXBYWThnNlUzQytWZz09>\nMeeting ID: 894 8140 9536\nPassword: 5sqcEM\n\n\n\nOne tap mobile\n+13017158592\,\,89481409536#\,\,\,\,0#\,\,848010# US (Germantown)\n+13126266799\,\,89481409536#\,\,\,\,0#\,\,848010# US (Chicago)\nDial by your location\n        +1 301 715 8592 US (Germantown)\n        +1 312 626 6799 US (Chicago)\n        +1 929 205 6099 US (New York)\n        +1 253 215 8782 US (Tacoma)\n        +1 346 248 7799 US (Houston)\n        +1 669 900 6833 US (San Jose)\nMeeting ID: 894 8140 9536\nPassword: 848010\nFind your local number: https://us02web.zoom.us/u/kIVlZ9W4G<Video Conferencing\, Web Conferencing\, Webinars\, Screen Sharing>\n\n
URL:https://www.haitisolidaritynetwork.org/event/hsnne-coady-haiti-mobil4haiti-hude-invite-you-to-a-service-of-remembrance-for-our-yvel-celestin/
LOCATION:St. Patrick Church\, 492 Bramhall Avenue\, Jersey City\, NJ\, United States
END:VEVENT
END:VCALENDAR